BEGIN:VCALENDAR
VERSION:2.0
PRODID:-//eventon.com NONSGML v1.0//EN
CALSCALE:GREGORIAN
METHOD:PUBLISH
BEGIN:VEVENT
UID:69e4d0b18a5b9
DTSTAMP:20260419T125513Z
DTSTART:20251115T163000Z
DTEND:20251115T200000Z
LOCATION:
SUMMARY:Big Reveal and Christmas Light Switch on
DESCRIPTION:On Saturday 15th November\,  the town centre will come alive as
  traders unveil their beautifully decorated festive windows\,  lighting up 
 the High Street and London Road with Christmas cheer. The celebrations begi
 n at 4.30pm on the High Street\,  where the East Grinstead Concert Band wil
 l set the scene with festive[..]\nhttps://www.eastgrinstead.gov.uk/articles
 /events/big-reveal-and-christmas-light-switch-on/
URL:https://www.eastgrinstead.gov.uk/articles/events/big-reveal-and-christmas-light-switch-on/
END:VEVENT
END:VCALENDAR