BEGIN:VCALENDAR
VERSION:2.0
PRODID:-//eventon.com NONSGML v1.0//EN
CALSCALE:GREGORIAN
METHOD:PUBLISH
BEGIN:VEVENT
UID:69e9d9e57f671
DTSTAMP:20260423T083549Z
DTSTART:20260126T191500Z
DTEND:20260126T223000Z
LOCATION:
SUMMARY:Ceroc
DESCRIPTION:Ceroc is the largest dance organisation in the UK. This modern 
 fusion of styles is easy to learn and can be danced to any type of music! E
 very Monday evening (including Bank Holidays) at Meridian Hall. Beginners w
 elcome every week. No need to book\,  no need to bring a partner.[..]\nhttp
 s://www.eastgrinstead.gov.uk/articles/events/ceroc-2/var/ri-3.l-L1
URL:https://www.eastgrinstead.gov.uk/articles/events/ceroc-2/var/ri-3.l-L1
END:VEVENT
END:VCALENDAR