BEGIN:VCALENDAR
VERSION:2.0
PRODID:-//eventon.com NONSGML v1.0//EN
CALSCALE:GREGORIAN
METHOD:PUBLISH
BEGIN:VEVENT
UID:69e992c3097c1
DTSTAMP:20260423T033219Z
DTSTART:20260105T191500Z
DTEND:20260105T223000Z
LOCATION:
SUMMARY:Ceroc
DESCRIPTION:Ceroc is the largest dance organisation in the UK. This modern 
 fusion of styles is easy to learn and can be danced to any type of music! E
 very Monday evening (including Bank Holidays) at Meridian Hall. Beginners w
 elcome every week. No need to book\,  no need to bring a partner.[..]\nhttp
 s://www.eastgrinstead.gov.uk/articles/events/ceroc-2/
URL:https://www.eastgrinstead.gov.uk/articles/events/ceroc-2/
END:VEVENT
END:VCALENDAR